BEGIN:VCALENDAR
VERSION:2.0
PRODID:-//Gleannloch Farms - ECPv6.15.11//NONSGML v1.0//EN
CALSCALE:GREGORIAN
METHOD:PUBLISH
X-ORIGINAL-URL:https://gleannlochfarmsca.org
X-WR-CALDESC:Events for Gleannloch Farms
REFRESH-INTERVAL;VALUE=DURATION:PT1H
X-Robots-Tag:noindex
X-PUBLISHED-TTL:PT1H
BEGIN:VTIMEZONE
TZID:America/Chicago
BEGIN:DAYLIGHT
TZOFFSETFROM:-0600
TZOFFSETTO:-0500
TZNAME:CDT
DTSTART:20250309T080000
END:DAYLIGHT
BEGIN:STANDARD
TZOFFSETFROM:-0500
TZOFFSETTO:-0600
TZNAME:CST
DTSTART:20251102T070000
END:STANDARD
BEGIN:DAYLIGHT
TZOFFSETFROM:-0600
TZOFFSETTO:-0500
TZNAME:CDT
DTSTART:20260308T080000
END:DAYLIGHT
BEGIN:STANDARD
TZOFFSETFROM:-0500
TZOFFSETTO:-0600
TZNAME:CST
DTSTART:20261101T070000
END:STANDARD
BEGIN:DAYLIGHT
TZOFFSETFROM:-0600
TZOFFSETTO:-0500
TZNAME:CDT
DTSTART:20270314T080000
END:DAYLIGHT
BEGIN:STANDARD
TZOFFSETFROM:-0500
TZOFFSETTO:-0600
TZNAME:CST
DTSTART:20271107T070000
END:STANDARD
END:VTIMEZONE
BEGIN:VEVENT
DTSTART;TZID=America/Chicago:20260915T163000
DTEND;TZID=America/Chicago:20260915T203000
DTSTAMP:20260424T003958
CREATED:20250903T195449Z
LAST-MODIFIED:20250903T195449Z
UID:1862-1789489800-1789504200@gleannlochfarmsca.org
SUMMARY:Tennis: Giammalva Tuesday Lessons\, Courts 1-2
DESCRIPTION:
URL:https://gleannlochfarmsca.org/event/tennis-giammalva-tuesday-lessons-courts-1-2-55/
LOCATION:Gleannloch Farms Rec Center\, 9420 Gleannloch Forest\, Spring\, TX\, 77379\, United States
CATEGORIES:Tennis Reservations
END:VEVENT
BEGIN:VEVENT
DTSTART;TZID=America/Chicago:20260917T163000
DTEND;TZID=America/Chicago:20260917T203000
DTSTAMP:20260424T003958
CREATED:20250903T195833Z
LAST-MODIFIED:20250903T195833Z
UID:1933-1789662600-1789677000@gleannlochfarmsca.org
SUMMARY:Tennis: Giammalva Thursday Lessons\, Courts 5-6
DESCRIPTION:
URL:https://gleannlochfarmsca.org/event/tennis-giammalva-thursday-lessons-courts-5-6-55/
LOCATION:Gleannloch Farms Rec Center\, 9420 Gleannloch Forest\, Spring\, TX\, 77379\, United States
CATEGORIES:Tennis Reservations
END:VEVENT
BEGIN:VEVENT
DTSTART;TZID=America/Chicago:20260917T190000
DTEND;TZID=America/Chicago:20260917T200000
DTSTAMP:20260424T003958
CREATED:20251222T183430Z
LAST-MODIFIED:20251222T183430Z
UID:2248-1789671600-1789675200@gleannlochfarmsca.org
SUMMARY:Board Meeting
DESCRIPTION:
URL:https://gleannlochfarmsca.org/event/board-meeting-9/
LOCATION:Gleannloch Farms Rec Center\, 9420 Gleannloch Forest\, Spring\, TX\, 77379\, United States
END:VEVENT
BEGIN:VEVENT
DTSTART;TZID=America/Chicago:20260922T163000
DTEND;TZID=America/Chicago:20260922T203000
DTSTAMP:20260424T003958
CREATED:20250903T195503Z
LAST-MODIFIED:20250903T195503Z
UID:1863-1790094600-1790109000@gleannlochfarmsca.org
SUMMARY:Tennis: Giammalva Tuesday Lessons\, Courts 1-2
DESCRIPTION:
URL:https://gleannlochfarmsca.org/event/tennis-giammalva-tuesday-lessons-courts-1-2-56/
LOCATION:Gleannloch Farms Rec Center\, 9420 Gleannloch Forest\, Spring\, TX\, 77379\, United States
CATEGORIES:Tennis Reservations
END:VEVENT
BEGIN:VEVENT
DTSTART;TZID=America/Chicago:20260924T163000
DTEND;TZID=America/Chicago:20260924T203000
DTSTAMP:20260424T003958
CREATED:20250903T195833Z
LAST-MODIFIED:20250903T195833Z
UID:1934-1790267400-1790281800@gleannlochfarmsca.org
SUMMARY:Tennis: Giammalva Thursday Lessons\, Courts 5-6
DESCRIPTION:
URL:https://gleannlochfarmsca.org/event/tennis-giammalva-thursday-lessons-courts-5-6-56/
LOCATION:Gleannloch Farms Rec Center\, 9420 Gleannloch Forest\, Spring\, TX\, 77379\, United States
CATEGORIES:Tennis Reservations
END:VEVENT
BEGIN:VEVENT
DTSTART;TZID=America/Chicago:20260929T163000
DTEND;TZID=America/Chicago:20260929T203000
DTSTAMP:20260424T003958
CREATED:20250903T195503Z
LAST-MODIFIED:20250903T195503Z
UID:1864-1790699400-1790713800@gleannlochfarmsca.org
SUMMARY:Tennis: Giammalva Tuesday Lessons\, Courts 1-2
DESCRIPTION:
URL:https://gleannlochfarmsca.org/event/tennis-giammalva-tuesday-lessons-courts-1-2-57/
LOCATION:Gleannloch Farms Rec Center\, 9420 Gleannloch Forest\, Spring\, TX\, 77379\, United States
CATEGORIES:Tennis Reservations
END:VEVENT
BEGIN:VEVENT
DTSTART;TZID=America/Chicago:20261001T163000
DTEND;TZID=America/Chicago:20261001T203000
DTSTAMP:20260424T003958
CREATED:20250903T195834Z
LAST-MODIFIED:20250903T195834Z
UID:1935-1790872200-1790886600@gleannlochfarmsca.org
SUMMARY:Tennis: Giammalva Thursday Lessons\, Courts 5-6
DESCRIPTION:
URL:https://gleannlochfarmsca.org/event/tennis-giammalva-thursday-lessons-courts-5-6-57/
LOCATION:Gleannloch Farms Rec Center\, 9420 Gleannloch Forest\, Spring\, TX\, 77379\, United States
CATEGORIES:Tennis Reservations
END:VEVENT
BEGIN:VEVENT
DTSTART;TZID=America/Chicago:20261006T163000
DTEND;TZID=America/Chicago:20261006T203000
DTSTAMP:20260424T003958
CREATED:20250903T195504Z
LAST-MODIFIED:20250903T195504Z
UID:1865-1791304200-1791318600@gleannlochfarmsca.org
SUMMARY:Tennis: Giammalva Tuesday Lessons\, Courts 1-2
DESCRIPTION:
URL:https://gleannlochfarmsca.org/event/tennis-giammalva-tuesday-lessons-courts-1-2-58/
LOCATION:Gleannloch Farms Rec Center\, 9420 Gleannloch Forest\, Spring\, TX\, 77379\, United States
CATEGORIES:Tennis Reservations
END:VEVENT
BEGIN:VEVENT
DTSTART;TZID=America/Chicago:20261006T180000
DTEND;TZID=America/Chicago:20261006T200000
DTSTAMP:20260424T003958
CREATED:20260130T170326Z
LAST-MODIFIED:20260130T170326Z
UID:2357-1791309600-1791316800@gleannlochfarmsca.org
SUMMARY:National Night Out
DESCRIPTION:
URL:https://gleannlochfarmsca.org/event/national-night-out/
LOCATION:Gleannloch Farms Rec Center\, 9420 Gleannloch Forest\, Spring\, TX\, 77379\, United States
END:VEVENT
BEGIN:VEVENT
DTSTART;TZID=America/Chicago:20261008T163000
DTEND;TZID=America/Chicago:20261008T203000
DTSTAMP:20260424T003958
CREATED:20250903T195834Z
LAST-MODIFIED:20250903T195834Z
UID:1936-1791477000-1791491400@gleannlochfarmsca.org
SUMMARY:Tennis: Giammalva Thursday Lessons\, Courts 5-6
DESCRIPTION:
URL:https://gleannlochfarmsca.org/event/tennis-giammalva-thursday-lessons-courts-5-6-58/
LOCATION:Gleannloch Farms Rec Center\, 9420 Gleannloch Forest\, Spring\, TX\, 77379\, United States
CATEGORIES:Tennis Reservations
END:VEVENT
BEGIN:VEVENT
DTSTART;TZID=America/Chicago:20261013T163000
DTEND;TZID=America/Chicago:20261013T203000
DTSTAMP:20260424T003958
CREATED:20250903T195504Z
LAST-MODIFIED:20250903T195504Z
UID:1866-1791909000-1791923400@gleannlochfarmsca.org
SUMMARY:Tennis: Giammalva Tuesday Lessons\, Courts 1-2
DESCRIPTION:
URL:https://gleannlochfarmsca.org/event/tennis-giammalva-tuesday-lessons-courts-1-2-59/
LOCATION:Gleannloch Farms Rec Center\, 9420 Gleannloch Forest\, Spring\, TX\, 77379\, United States
CATEGORIES:Tennis Reservations
END:VEVENT
BEGIN:VEVENT
DTSTART;TZID=America/Chicago:20261015T160000
DTEND;TZID=America/Chicago:20261015T190000
DTSTAMP:20260424T003958
CREATED:20251222T183504Z
LAST-MODIFIED:20251222T183504Z
UID:2250-1792080000-1792090800@gleannlochfarmsca.org
SUMMARY:Board Meeting
DESCRIPTION:
URL:https://gleannlochfarmsca.org/event/board-meeting-10/
LOCATION:Gleannloch Farms Rec Center\, 9420 Gleannloch Forest\, Spring\, TX\, 77379\, United States
END:VEVENT
BEGIN:VEVENT
DTSTART;TZID=America/Chicago:20261015T163000
DTEND;TZID=America/Chicago:20261015T203000
DTSTAMP:20260424T003958
CREATED:20250903T195834Z
LAST-MODIFIED:20250903T195834Z
UID:1937-1792081800-1792096200@gleannlochfarmsca.org
SUMMARY:Tennis: Giammalva Thursday Lessons\, Courts 5-6
DESCRIPTION:
URL:https://gleannlochfarmsca.org/event/tennis-giammalva-thursday-lessons-courts-5-6-59/
LOCATION:Gleannloch Farms Rec Center\, 9420 Gleannloch Forest\, Spring\, TX\, 77379\, United States
CATEGORIES:Tennis Reservations
END:VEVENT
BEGIN:VEVENT
DTSTART;TZID=America/Chicago:20261020T163000
DTEND;TZID=America/Chicago:20261020T203000
DTSTAMP:20260424T003958
CREATED:20250903T195504Z
LAST-MODIFIED:20250903T195504Z
UID:1867-1792513800-1792528200@gleannlochfarmsca.org
SUMMARY:Tennis: Giammalva Tuesday Lessons\, Courts 1-2
DESCRIPTION:
URL:https://gleannlochfarmsca.org/event/tennis-giammalva-tuesday-lessons-courts-1-2-60/
LOCATION:Gleannloch Farms Rec Center\, 9420 Gleannloch Forest\, Spring\, TX\, 77379\, United States
CATEGORIES:Tennis Reservations
END:VEVENT
BEGIN:VEVENT
DTSTART;TZID=America/Chicago:20261022T163000
DTEND;TZID=America/Chicago:20261022T203000
DTSTAMP:20260424T003958
CREATED:20250903T195848Z
LAST-MODIFIED:20250903T195848Z
UID:1938-1792686600-1792701000@gleannlochfarmsca.org
SUMMARY:Tennis: Giammalva Thursday Lessons\, Courts 5-6
DESCRIPTION:
URL:https://gleannlochfarmsca.org/event/tennis-giammalva-thursday-lessons-courts-5-6-60/
LOCATION:Gleannloch Farms Rec Center\, 9420 Gleannloch Forest\, Spring\, TX\, 77379\, United States
CATEGORIES:Tennis Reservations
END:VEVENT
BEGIN:VEVENT
DTSTART;TZID=America/Chicago:20261024T073000
DTEND;TZID=America/Chicago:20261025T173000
DTSTAMP:20260424T003958
CREATED:20251229T023137Z
LAST-MODIFIED:20251229T023137Z
UID:2274-1792827000-1792949400@gleannlochfarmsca.org
SUMMARY:Tennis: Giammalva Junior Tournament\, Courts 1-6
DESCRIPTION:
URL:https://gleannlochfarmsca.org/event/tennis-giammalva-junior-tournament-courts-1-6-2/
LOCATION:Gleannloch Farms Rec Center\, 9420 Gleannloch Forest\, Spring\, TX\, 77379\, United States
CATEGORIES:Tennis,Tennis Reservations
END:VEVENT
BEGIN:VEVENT
DTSTART;TZID=America/Chicago:20261025T120000
DTEND;TZID=America/Chicago:20261025T180000
DTSTAMP:20260424T003958
CREATED:20260130T170452Z
LAST-MODIFIED:20260130T170452Z
UID:2359-1792929600-1792951200@gleannlochfarmsca.org
SUMMARY:Trunk or Treat
DESCRIPTION:
URL:https://gleannlochfarmsca.org/event/trunk-or-treat-2/
LOCATION:Gleannloch Farms Athletic Park\, 19828 Gleannbury Pointe Dr.\, Spring\, 77379\, United States
END:VEVENT
BEGIN:VEVENT
DTSTART;TZID=America/Chicago:20261027T163000
DTEND;TZID=America/Chicago:20261027T203000
DTSTAMP:20260424T003958
CREATED:20250903T195518Z
LAST-MODIFIED:20250903T195518Z
UID:1868-1793118600-1793133000@gleannlochfarmsca.org
SUMMARY:Tennis: Giammalva Tuesday Lessons\, Courts 1-2
DESCRIPTION:
URL:https://gleannlochfarmsca.org/event/tennis-giammalva-tuesday-lessons-courts-1-2-61/
LOCATION:Gleannloch Farms Rec Center\, 9420 Gleannloch Forest\, Spring\, TX\, 77379\, United States
CATEGORIES:Tennis Reservations
END:VEVENT
BEGIN:VEVENT
DTSTART;TZID=America/Chicago:20261029T163000
DTEND;TZID=America/Chicago:20261029T203000
DTSTAMP:20260424T003958
CREATED:20250903T195848Z
LAST-MODIFIED:20250903T195848Z
UID:1939-1793291400-1793305800@gleannlochfarmsca.org
SUMMARY:Tennis: Giammalva Thursday Lessons\, Courts 5-6
DESCRIPTION:
URL:https://gleannlochfarmsca.org/event/tennis-giammalva-thursday-lessons-courts-5-6-61/
LOCATION:Gleannloch Farms Rec Center\, 9420 Gleannloch Forest\, Spring\, TX\, 77379\, United States
CATEGORIES:Tennis Reservations
END:VEVENT
BEGIN:VEVENT
DTSTART;TZID=America/Chicago:20261103T163000
DTEND;TZID=America/Chicago:20261103T203000
DTSTAMP:20260424T003958
CREATED:20250903T195518Z
LAST-MODIFIED:20250903T195518Z
UID:1869-1793723400-1793737800@gleannlochfarmsca.org
SUMMARY:Tennis: Giammalva Tuesday Lessons\, Courts 1-2
DESCRIPTION:
URL:https://gleannlochfarmsca.org/event/tennis-giammalva-tuesday-lessons-courts-1-2-62/
LOCATION:Gleannloch Farms Rec Center\, 9420 Gleannloch Forest\, Spring\, TX\, 77379\, United States
CATEGORIES:Tennis Reservations
END:VEVENT
BEGIN:VEVENT
DTSTART;TZID=America/Chicago:20261105T163000
DTEND;TZID=America/Chicago:20261105T203000
DTSTAMP:20260424T003958
CREATED:20250903T195849Z
LAST-MODIFIED:20250903T195849Z
UID:1940-1793896200-1793910600@gleannlochfarmsca.org
SUMMARY:Tennis: Giammalva Thursday Lessons\, Courts 5-6
DESCRIPTION:
URL:https://gleannlochfarmsca.org/event/tennis-giammalva-thursday-lessons-courts-5-6-62/
LOCATION:Gleannloch Farms Rec Center\, 9420 Gleannloch Forest\, Spring\, TX\, 77379\, United States
CATEGORIES:Tennis Reservations
END:VEVENT
BEGIN:VEVENT
DTSTART;TZID=America/Chicago:20261110T163000
DTEND;TZID=America/Chicago:20261110T203000
DTSTAMP:20260424T003958
CREATED:20250903T195518Z
LAST-MODIFIED:20250903T195518Z
UID:1870-1794328200-1794342600@gleannlochfarmsca.org
SUMMARY:Tennis: Giammalva Tuesday Lessons\, Courts 1-2
DESCRIPTION:
URL:https://gleannlochfarmsca.org/event/tennis-giammalva-tuesday-lessons-courts-1-2-63/
LOCATION:Gleannloch Farms Rec Center\, 9420 Gleannloch Forest\, Spring\, TX\, 77379\, United States
CATEGORIES:Tennis Reservations
END:VEVENT
BEGIN:VEVENT
DTSTART;TZID=America/Chicago:20261112T163000
DTEND;TZID=America/Chicago:20261112T203000
DTSTAMP:20260424T003958
CREATED:20250903T195849Z
LAST-MODIFIED:20250903T195849Z
UID:1941-1794501000-1794515400@gleannlochfarmsca.org
SUMMARY:Tennis: Giammalva Thursday Lessons\, Courts 5-6
DESCRIPTION:
URL:https://gleannlochfarmsca.org/event/tennis-giammalva-thursday-lessons-courts-5-6-63/
LOCATION:Gleannloch Farms Rec Center\, 9420 Gleannloch Forest\, Spring\, TX\, 77379\, United States
CATEGORIES:Tennis Reservations
END:VEVENT
BEGIN:VEVENT
DTSTART;TZID=America/Chicago:20261117T163000
DTEND;TZID=America/Chicago:20261117T203000
DTSTAMP:20260424T003958
CREATED:20250903T195519Z
LAST-MODIFIED:20250903T195519Z
UID:1871-1794933000-1794947400@gleannlochfarmsca.org
SUMMARY:Tennis: Giammalva Tuesday Lessons\, Courts 1-2
DESCRIPTION:
URL:https://gleannlochfarmsca.org/event/tennis-giammalva-tuesday-lessons-courts-1-2-64/
LOCATION:Gleannloch Farms Rec Center\, 9420 Gleannloch Forest\, Spring\, TX\, 77379\, United States
CATEGORIES:Tennis Reservations
END:VEVENT
BEGIN:VEVENT
DTSTART;TZID=America/Chicago:20261119T160000
DTEND;TZID=America/Chicago:20261119T190000
DTSTAMP:20260424T003958
CREATED:20251222T183531Z
LAST-MODIFIED:20251222T183531Z
UID:2252-1795104000-1795114800@gleannlochfarmsca.org
SUMMARY:Board Meeting
DESCRIPTION:
URL:https://gleannlochfarmsca.org/event/board-meeting-11/
LOCATION:Gleannloch Farms Rec Center\, 9420 Gleannloch Forest\, Spring\, TX\, 77379\, United States
END:VEVENT
BEGIN:VEVENT
DTSTART;TZID=America/Chicago:20261119T163000
DTEND;TZID=America/Chicago:20261119T203000
DTSTAMP:20260424T003958
CREATED:20250903T195849Z
LAST-MODIFIED:20250903T195849Z
UID:1942-1795105800-1795120200@gleannlochfarmsca.org
SUMMARY:Tennis: Giammalva Thursday Lessons\, Courts 5-6
DESCRIPTION:
URL:https://gleannlochfarmsca.org/event/tennis-giammalva-thursday-lessons-courts-5-6-64/
LOCATION:Gleannloch Farms Rec Center\, 9420 Gleannloch Forest\, Spring\, TX\, 77379\, United States
CATEGORIES:Tennis Reservations
END:VEVENT
BEGIN:VEVENT
DTSTART;TZID=America/Chicago:20261124T163000
DTEND;TZID=America/Chicago:20261124T203000
DTSTAMP:20260424T003958
CREATED:20250903T195519Z
LAST-MODIFIED:20250903T195519Z
UID:1872-1795537800-1795552200@gleannlochfarmsca.org
SUMMARY:Tennis: Giammalva Tuesday Lessons\, Courts 1-2
DESCRIPTION:
URL:https://gleannlochfarmsca.org/event/tennis-giammalva-tuesday-lessons-courts-1-2-65/
LOCATION:Gleannloch Farms Rec Center\, 9420 Gleannloch Forest\, Spring\, TX\, 77379\, United States
CATEGORIES:Tennis Reservations
END:VEVENT
BEGIN:VEVENT
DTSTART;TZID=America/Chicago:20261126T163000
DTEND;TZID=America/Chicago:20261126T203000
DTSTAMP:20260424T003958
CREATED:20250903T195903Z
LAST-MODIFIED:20250903T195903Z
UID:1943-1795710600-1795725000@gleannlochfarmsca.org
SUMMARY:Tennis: Giammalva Thursday Lessons\, Courts 5-6
DESCRIPTION:
URL:https://gleannlochfarmsca.org/event/tennis-giammalva-thursday-lessons-courts-5-6-65/
LOCATION:Gleannloch Farms Rec Center\, 9420 Gleannloch Forest\, Spring\, TX\, 77379\, United States
CATEGORIES:Tennis Reservations
END:VEVENT
BEGIN:VEVENT
DTSTART;TZID=America/Chicago:20261201T163000
DTEND;TZID=America/Chicago:20261201T203000
DTSTAMP:20260424T003958
CREATED:20250903T195533Z
LAST-MODIFIED:20250903T195533Z
UID:1873-1796142600-1796157000@gleannlochfarmsca.org
SUMMARY:Tennis: Giammalva Tuesday Lessons\, Courts 1-2
DESCRIPTION:
URL:https://gleannlochfarmsca.org/event/tennis-giammalva-tuesday-lessons-courts-1-2-66/
LOCATION:Gleannloch Farms Rec Center\, 9420 Gleannloch Forest\, Spring\, TX\, 77379\, United States
CATEGORIES:Tennis Reservations
END:VEVENT
BEGIN:VEVENT
DTSTART;TZID=America/Chicago:20261203T163000
DTEND;TZID=America/Chicago:20261203T203000
DTSTAMP:20260424T003958
CREATED:20250903T195903Z
LAST-MODIFIED:20250903T195903Z
UID:1944-1796315400-1796329800@gleannlochfarmsca.org
SUMMARY:Tennis: Giammalva Thursday Lessons\, Courts 5-6
DESCRIPTION:
URL:https://gleannlochfarmsca.org/event/tennis-giammalva-thursday-lessons-courts-5-6-66/
LOCATION:Gleannloch Farms Rec Center\, 9420 Gleannloch Forest\, Spring\, TX\, 77379\, United States
CATEGORIES:Tennis Reservations
END:VEVENT
END:VCALENDAR