BEGIN:VCALENDAR
VERSION:2.0
PRODID:-//Gleannloch Farms - ECPv6.15.11//NONSGML v1.0//EN
CALSCALE:GREGORIAN
METHOD:PUBLISH
X-ORIGINAL-URL:https://gleannlochfarmsca.org
X-WR-CALDESC:Events for Gleannloch Farms
REFRESH-INTERVAL;VALUE=DURATION:PT1H
X-Robots-Tag:noindex
X-PUBLISHED-TTL:PT1H
BEGIN:VTIMEZONE
TZID:America/Chicago
BEGIN:DAYLIGHT
TZOFFSETFROM:-0600
TZOFFSETTO:-0500
TZNAME:CDT
DTSTART:20250309T080000
END:DAYLIGHT
BEGIN:STANDARD
TZOFFSETFROM:-0500
TZOFFSETTO:-0600
TZNAME:CST
DTSTART:20251102T070000
END:STANDARD
BEGIN:DAYLIGHT
TZOFFSETFROM:-0600
TZOFFSETTO:-0500
TZNAME:CDT
DTSTART:20260308T080000
END:DAYLIGHT
BEGIN:STANDARD
TZOFFSETFROM:-0500
TZOFFSETTO:-0600
TZNAME:CST
DTSTART:20261101T070000
END:STANDARD
BEGIN:DAYLIGHT
TZOFFSETFROM:-0600
TZOFFSETTO:-0500
TZNAME:CDT
DTSTART:20270314T080000
END:DAYLIGHT
BEGIN:STANDARD
TZOFFSETFROM:-0500
TZOFFSETTO:-0600
TZNAME:CST
DTSTART:20271107T070000
END:STANDARD
END:VTIMEZONE
BEGIN:VEVENT
DTSTART;TZID=America/Chicago:20260521T160000
DTEND;TZID=America/Chicago:20260521T190000
DTSTAMP:20260423T190207
CREATED:20251222T183243Z
LAST-MODIFIED:20251222T183243Z
UID:2242-1779379200-1779390000@gleannlochfarmsca.org
SUMMARY:Board Meeting
DESCRIPTION:
URL:https://gleannlochfarmsca.org/event/board-meeting-6/
LOCATION:Gleannloch Farms Rec Center\, 9420 Gleannloch Forest\, Spring\, TX\, 77379\, United States
END:VEVENT
BEGIN:VEVENT
DTSTART;TZID=America/Chicago:20260521T163000
DTEND;TZID=America/Chicago:20260521T203000
DTSTAMP:20260423T190207
CREATED:20250903T195734Z
LAST-MODIFIED:20250903T195734Z
UID:1916-1779381000-1779395400@gleannlochfarmsca.org
SUMMARY:Tennis: Giammalva Thursday Lessons\, Courts 5-6
DESCRIPTION:
URL:https://gleannlochfarmsca.org/event/tennis-giammalva-thursday-lessons-courts-5-6-38/
LOCATION:Gleannloch Farms Rec Center\, 9420 Gleannloch Forest\, Spring\, TX\, 77379\, United States
CATEGORIES:Tennis Reservations
END:VEVENT
BEGIN:VEVENT
DTSTART;TZID=America/Chicago:20260523T073000
DTEND;TZID=America/Chicago:20260524T173000
DTSTAMP:20260423T190207
CREATED:20251229T022756Z
LAST-MODIFIED:20251229T023423Z
UID:2268-1779521400-1779643800@gleannlochfarmsca.org
SUMMARY:Tennis: Giammalva Junior Tournament\, Courts 1-6
DESCRIPTION:
URL:https://gleannlochfarmsca.org/event/tennis-giammalva-junior-tournament-2/
LOCATION:Gleannloch Farms Rec Center\, 9420 Gleannloch Forest\, Spring\, TX\, 77379\, United States
CATEGORIES:Tennis,Tennis Reservations
END:VEVENT
BEGIN:VEVENT
DTSTART;TZID=America/Chicago:20260526T163000
DTEND;TZID=America/Chicago:20260526T203000
DTSTAMP:20260423T190207
CREATED:20250903T195404Z
LAST-MODIFIED:20250903T195404Z
UID:1846-1779813000-1779827400@gleannlochfarmsca.org
SUMMARY:Tennis: Giammalva Tuesday Lessons\, Courts 1-2
DESCRIPTION:
URL:https://gleannlochfarmsca.org/event/tennis-giammalva-tuesday-lessons-courts-1-2-39/
LOCATION:Gleannloch Farms Rec Center\, 9420 Gleannloch Forest\, Spring\, TX\, 77379\, United States
CATEGORIES:Tennis Reservations
END:VEVENT
BEGIN:VEVENT
DTSTART;TZID=America/Chicago:20260528T163000
DTEND;TZID=America/Chicago:20260528T203000
DTSTAMP:20260423T190207
CREATED:20250903T195734Z
LAST-MODIFIED:20250903T195734Z
UID:1917-1779985800-1780000200@gleannlochfarmsca.org
SUMMARY:Tennis: Giammalva Thursday Lessons\, Courts 5-6
DESCRIPTION:
URL:https://gleannlochfarmsca.org/event/tennis-giammalva-thursday-lessons-courts-5-6-39/
LOCATION:Gleannloch Farms Rec Center\, 9420 Gleannloch Forest\, Spring\, TX\, 77379\, United States
CATEGORIES:Tennis Reservations
END:VEVENT
BEGIN:VEVENT
DTSTART;TZID=America/Chicago:20260531T120000
DTEND;TZID=America/Chicago:20260531T200000
DTSTAMP:20260423T190207
CREATED:20260423T173738Z
LAST-MODIFIED:20260423T173815Z
UID:2573-1780228800-1780257600@gleannlochfarmsca.org
SUMMARY:Private Event
DESCRIPTION:
URL:https://gleannlochfarmsca.org/event/private-event/
LOCATION:Gleannloch Farms Athletic Park\, 19828 Gleannbury Pointe Dr.\, Spring\, 77379\, United States
CATEGORIES:Pavilion Reservations
END:VEVENT
BEGIN:VEVENT
DTSTART;TZID=America/Chicago:20260602T163000
DTEND;TZID=America/Chicago:20260602T203000
DTSTAMP:20260423T190207
CREATED:20250903T195404Z
LAST-MODIFIED:20250903T195404Z
UID:1847-1780417800-1780432200@gleannlochfarmsca.org
SUMMARY:Tennis: Giammalva Tuesday Lessons\, Courts 1-2
DESCRIPTION:
URL:https://gleannlochfarmsca.org/event/tennis-giammalva-tuesday-lessons-courts-1-2-40/
LOCATION:Gleannloch Farms Rec Center\, 9420 Gleannloch Forest\, Spring\, TX\, 77379\, United States
CATEGORIES:Tennis Reservations
END:VEVENT
BEGIN:VEVENT
DTSTART;TZID=America/Chicago:20260604T163000
DTEND;TZID=America/Chicago:20260604T203000
DTSTAMP:20260423T190207
CREATED:20250903T195748Z
LAST-MODIFIED:20250903T195748Z
UID:1918-1780590600-1780605000@gleannlochfarmsca.org
SUMMARY:Tennis: Giammalva Thursday Lessons\, Courts 5-6
DESCRIPTION:
URL:https://gleannlochfarmsca.org/event/tennis-giammalva-thursday-lessons-courts-5-6-40/
LOCATION:Gleannloch Farms Rec Center\, 9420 Gleannloch Forest\, Spring\, TX\, 77379\, United States
CATEGORIES:Tennis Reservations
END:VEVENT
BEGIN:VEVENT
DTSTART;TZID=America/Chicago:20260609T163000
DTEND;TZID=America/Chicago:20260609T203000
DTSTAMP:20260423T190207
CREATED:20250903T195418Z
LAST-MODIFIED:20250903T195418Z
UID:1848-1781022600-1781037000@gleannlochfarmsca.org
SUMMARY:Tennis: Giammalva Tuesday Lessons\, Courts 1-2
DESCRIPTION:
URL:https://gleannlochfarmsca.org/event/tennis-giammalva-tuesday-lessons-courts-1-2-41/
LOCATION:Gleannloch Farms Rec Center\, 9420 Gleannloch Forest\, Spring\, TX\, 77379\, United States
CATEGORIES:Tennis Reservations
END:VEVENT
BEGIN:VEVENT
DTSTART;TZID=America/Chicago:20260611T163000
DTEND;TZID=America/Chicago:20260611T203000
DTSTAMP:20260423T190207
CREATED:20250903T195748Z
LAST-MODIFIED:20250903T195748Z
UID:1919-1781195400-1781209800@gleannlochfarmsca.org
SUMMARY:Tennis: Giammalva Thursday Lessons\, Courts 5-6
DESCRIPTION:
URL:https://gleannlochfarmsca.org/event/tennis-giammalva-thursday-lessons-courts-5-6-41/
LOCATION:Gleannloch Farms Rec Center\, 9420 Gleannloch Forest\, Spring\, TX\, 77379\, United States
CATEGORIES:Tennis Reservations
END:VEVENT
BEGIN:VEVENT
DTSTART;TZID=America/Chicago:20260616T163000
DTEND;TZID=America/Chicago:20260616T203000
DTSTAMP:20260423T190207
CREATED:20250903T195418Z
LAST-MODIFIED:20250903T195418Z
UID:1849-1781627400-1781641800@gleannlochfarmsca.org
SUMMARY:Tennis: Giammalva Tuesday Lessons\, Courts 1-2
DESCRIPTION:
URL:https://gleannlochfarmsca.org/event/tennis-giammalva-tuesday-lessons-courts-1-2-42/
LOCATION:Gleannloch Farms Rec Center\, 9420 Gleannloch Forest\, Spring\, TX\, 77379\, United States
CATEGORIES:Tennis Reservations
END:VEVENT
BEGIN:VEVENT
DTSTART;TZID=America/Chicago:20260618T160000
DTEND;TZID=America/Chicago:20260618T190000
DTSTAMP:20260423T190207
CREATED:20251222T183317Z
LAST-MODIFIED:20251222T183317Z
UID:2244-1781798400-1781809200@gleannlochfarmsca.org
SUMMARY:Board Meeting
DESCRIPTION:
URL:https://gleannlochfarmsca.org/event/board-meeting-7/
LOCATION:Gleannloch Farms Rec Center\, 9420 Gleannloch Forest\, Spring\, TX\, 77379\, United States
END:VEVENT
BEGIN:VEVENT
DTSTART;TZID=America/Chicago:20260618T163000
DTEND;TZID=America/Chicago:20260618T203000
DTSTAMP:20260423T190207
CREATED:20250903T195749Z
LAST-MODIFIED:20250903T195749Z
UID:1920-1781800200-1781814600@gleannlochfarmsca.org
SUMMARY:Tennis: Giammalva Thursday Lessons\, Courts 5-6
DESCRIPTION:
URL:https://gleannlochfarmsca.org/event/tennis-giammalva-thursday-lessons-courts-5-6-42/
LOCATION:Gleannloch Farms Rec Center\, 9420 Gleannloch Forest\, Spring\, TX\, 77379\, United States
CATEGORIES:Tennis Reservations
END:VEVENT
BEGIN:VEVENT
DTSTART;TZID=America/Chicago:20260623T163000
DTEND;TZID=America/Chicago:20260623T203000
DTSTAMP:20260423T190207
CREATED:20250903T195419Z
LAST-MODIFIED:20250903T195419Z
UID:1850-1782232200-1782246600@gleannlochfarmsca.org
SUMMARY:Tennis: Giammalva Tuesday Lessons\, Courts 1-2
DESCRIPTION:
URL:https://gleannlochfarmsca.org/event/tennis-giammalva-tuesday-lessons-courts-1-2-43/
LOCATION:Gleannloch Farms Rec Center\, 9420 Gleannloch Forest\, Spring\, TX\, 77379\, United States
CATEGORIES:Tennis Reservations
END:VEVENT
BEGIN:VEVENT
DTSTART;TZID=America/Chicago:20260625T163000
DTEND;TZID=America/Chicago:20260625T203000
DTSTAMP:20260423T190207
CREATED:20250903T195749Z
LAST-MODIFIED:20250903T195749Z
UID:1921-1782405000-1782419400@gleannlochfarmsca.org
SUMMARY:Tennis: Giammalva Thursday Lessons\, Courts 5-6
DESCRIPTION:
URL:https://gleannlochfarmsca.org/event/tennis-giammalva-thursday-lessons-courts-5-6-43/
LOCATION:Gleannloch Farms Rec Center\, 9420 Gleannloch Forest\, Spring\, TX\, 77379\, United States
CATEGORIES:Tennis Reservations
END:VEVENT
BEGIN:VEVENT
DTSTART;TZID=America/Chicago:20260630T163000
DTEND;TZID=America/Chicago:20260630T203000
DTSTAMP:20260423T190207
CREATED:20250903T195419Z
LAST-MODIFIED:20250903T195419Z
UID:1851-1782837000-1782851400@gleannlochfarmsca.org
SUMMARY:Tennis: Giammalva Tuesday Lessons\, Courts 1-2
DESCRIPTION:
URL:https://gleannlochfarmsca.org/event/tennis-giammalva-tuesday-lessons-courts-1-2-44/
LOCATION:Gleannloch Farms Rec Center\, 9420 Gleannloch Forest\, Spring\, TX\, 77379\, United States
CATEGORIES:Tennis Reservations
END:VEVENT
BEGIN:VEVENT
DTSTART;TZID=America/Chicago:20260702T163000
DTEND;TZID=America/Chicago:20260702T203000
DTSTAMP:20260423T190207
CREATED:20250903T195749Z
LAST-MODIFIED:20250903T195749Z
UID:1922-1783009800-1783024200@gleannlochfarmsca.org
SUMMARY:Tennis: Giammalva Thursday Lessons\, Courts 5-6
DESCRIPTION:
URL:https://gleannlochfarmsca.org/event/tennis-giammalva-thursday-lessons-courts-5-6-44/
LOCATION:Gleannloch Farms Rec Center\, 9420 Gleannloch Forest\, Spring\, TX\, 77379\, United States
CATEGORIES:Tennis Reservations
END:VEVENT
BEGIN:VEVENT
DTSTART;TZID=America/Chicago:20260703T180000
DTEND;TZID=America/Chicago:20260703T230000
DTSTAMP:20260423T190207
CREATED:20260212T201646Z
LAST-MODIFIED:20260212T203119Z
UID:2426-1783101600-1783119600@gleannlochfarmsca.org
SUMMARY:July 3rd Freedom Fest and Fireworks
DESCRIPTION:
URL:https://gleannlochfarmsca.org/event/july-3rd-freedom-fest-and-fireworks/
CATEGORIES:Community Events
ATTACH;FMTTYPE=image/png:https://gleannlochfarmsca.org/wp-content/uploads/2026/02/Live-Music-Fireworks-signage.png
END:VEVENT
BEGIN:VEVENT
DTSTART;TZID=America/Chicago:20260704T090000
DTEND;TZID=America/Chicago:20260704T140000
DTSTAMP:20260423T190207
CREATED:20260212T201115Z
LAST-MODIFIED:20260212T203042Z
UID:2424-1783155600-1783173600@gleannlochfarmsca.org
SUMMARY:July 4th Parade
DESCRIPTION:
URL:https://gleannlochfarmsca.org/event/july-4th-parade/
CATEGORIES:Community Events
ATTACH;FMTTYPE=image/png:https://gleannlochfarmsca.org/wp-content/uploads/2026/02/Parade-Party-signage.png
END:VEVENT
BEGIN:VEVENT
DTSTART;TZID=America/Chicago:20260707T163000
DTEND;TZID=America/Chicago:20260707T203000
DTSTAMP:20260423T190207
CREATED:20250903T195419Z
LAST-MODIFIED:20250903T195419Z
UID:1852-1783441800-1783456200@gleannlochfarmsca.org
SUMMARY:Tennis: Giammalva Tuesday Lessons\, Courts 1-2
DESCRIPTION:
URL:https://gleannlochfarmsca.org/event/tennis-giammalva-tuesday-lessons-courts-1-2-45/
LOCATION:Gleannloch Farms Rec Center\, 9420 Gleannloch Forest\, Spring\, TX\, 77379\, United States
CATEGORIES:Tennis Reservations
END:VEVENT
BEGIN:VEVENT
DTSTART;TZID=America/Chicago:20260709T163000
DTEND;TZID=America/Chicago:20260709T203000
DTSTAMP:20260423T190207
CREATED:20250903T195803Z
LAST-MODIFIED:20250903T195803Z
UID:1923-1783614600-1783629000@gleannlochfarmsca.org
SUMMARY:Tennis: Giammalva Thursday Lessons\, Courts 5-6
DESCRIPTION:
URL:https://gleannlochfarmsca.org/event/tennis-giammalva-thursday-lessons-courts-5-6-45/
LOCATION:Gleannloch Farms Rec Center\, 9420 Gleannloch Forest\, Spring\, TX\, 77379\, United States
CATEGORIES:Tennis Reservations
END:VEVENT
BEGIN:VEVENT
DTSTART;TZID=America/Chicago:20260714T163000
DTEND;TZID=America/Chicago:20260714T203000
DTSTAMP:20260423T190207
CREATED:20250903T195433Z
LAST-MODIFIED:20250903T195433Z
UID:1853-1784046600-1784061000@gleannlochfarmsca.org
SUMMARY:Tennis: Giammalva Tuesday Lessons\, Courts 1-2
DESCRIPTION:
URL:https://gleannlochfarmsca.org/event/tennis-giammalva-tuesday-lessons-courts-1-2-46/
LOCATION:Gleannloch Farms Rec Center\, 9420 Gleannloch Forest\, Spring\, TX\, 77379\, United States
CATEGORIES:Tennis Reservations
END:VEVENT
BEGIN:VEVENT
DTSTART;TZID=America/Chicago:20260716T160000
DTEND;TZID=America/Chicago:20260716T190000
DTSTAMP:20260423T190207
CREATED:20251222T183345Z
LAST-MODIFIED:20251222T183345Z
UID:2246-1784217600-1784228400@gleannlochfarmsca.org
SUMMARY:Board Meeting
DESCRIPTION:
URL:https://gleannlochfarmsca.org/event/board-meeting-8/
LOCATION:Gleannloch Farms Rec Center\, 9420 Gleannloch Forest\, Spring\, TX\, 77379\, United States
END:VEVENT
BEGIN:VEVENT
DTSTART;TZID=America/Chicago:20260716T163000
DTEND;TZID=America/Chicago:20260716T203000
DTSTAMP:20260423T190207
CREATED:20250903T195803Z
LAST-MODIFIED:20250903T195803Z
UID:1924-1784219400-1784233800@gleannlochfarmsca.org
SUMMARY:Tennis: Giammalva Thursday Lessons\, Courts 5-6
DESCRIPTION:
URL:https://gleannlochfarmsca.org/event/tennis-giammalva-thursday-lessons-courts-5-6-46/
LOCATION:Gleannloch Farms Rec Center\, 9420 Gleannloch Forest\, Spring\, TX\, 77379\, United States
CATEGORIES:Tennis Reservations
END:VEVENT
BEGIN:VEVENT
DTSTART;TZID=America/Chicago:20260716T170000
DTEND;TZID=America/Chicago:20260716T193000
DTSTAMP:20260423T190207
CREATED:20260223T155606Z
LAST-MODIFIED:20260223T162433Z
UID:2439-1784221200-1784230200@gleannlochfarmsca.org
SUMMARY:Klein Angels
DESCRIPTION:
URL:https://gleannlochfarmsca.org/event/klein-angels/
LOCATION:Gleannloch Farms Athletic Park\, 19828 Gleannbury Pointe Dr.\, Spring\, 77379\, United States
CATEGORIES:Pavilion Reservations
END:VEVENT
BEGIN:VEVENT
DTSTART;TZID=America/Chicago:20260721T163000
DTEND;TZID=America/Chicago:20260721T203000
DTSTAMP:20260423T190207
CREATED:20250903T195433Z
LAST-MODIFIED:20250903T195433Z
UID:1854-1784651400-1784665800@gleannlochfarmsca.org
SUMMARY:Tennis: Giammalva Tuesday Lessons\, Courts 1-2
DESCRIPTION:
URL:https://gleannlochfarmsca.org/event/tennis-giammalva-tuesday-lessons-courts-1-2-47/
LOCATION:Gleannloch Farms Rec Center\, 9420 Gleannloch Forest\, Spring\, TX\, 77379\, United States
CATEGORIES:Tennis Reservations
END:VEVENT
BEGIN:VEVENT
DTSTART;TZID=America/Chicago:20260721T170000
DTEND;TZID=America/Chicago:20260721T193000
DTSTAMP:20260423T190207
CREATED:20260223T155821Z
LAST-MODIFIED:20260223T162444Z
UID:2441-1784653200-1784662200@gleannlochfarmsca.org
SUMMARY:Klein Angels
DESCRIPTION:
URL:https://gleannlochfarmsca.org/event/klein-angels-2/
LOCATION:Gleannloch Farms Athletic Park\, 19828 Gleannbury Pointe Dr.\, Spring\, 77379\, United States
CATEGORIES:Pavilion Reservations
END:VEVENT
BEGIN:VEVENT
DTSTART;TZID=America/Chicago:20260723T163000
DTEND;TZID=America/Chicago:20260723T203000
DTSTAMP:20260423T190207
CREATED:20250903T195804Z
LAST-MODIFIED:20250903T195804Z
UID:1925-1784824200-1784838600@gleannlochfarmsca.org
SUMMARY:Tennis: Giammalva Thursday Lessons\, Courts 5-6
DESCRIPTION:
URL:https://gleannlochfarmsca.org/event/tennis-giammalva-thursday-lessons-courts-5-6-47/
LOCATION:Gleannloch Farms Rec Center\, 9420 Gleannloch Forest\, Spring\, TX\, 77379\, United States
CATEGORIES:Tennis Reservations
END:VEVENT
BEGIN:VEVENT
DTSTART;TZID=America/Chicago:20260723T170000
DTEND;TZID=America/Chicago:20260723T193000
DTSTAMP:20260423T190207
CREATED:20260223T155852Z
LAST-MODIFIED:20260223T162504Z
UID:2443-1784826000-1784835000@gleannlochfarmsca.org
SUMMARY:Klein Angels
DESCRIPTION:
URL:https://gleannlochfarmsca.org/event/klein-angels-3/
LOCATION:Gleannloch Farms Athletic Park\, 19828 Gleannbury Pointe Dr.\, Spring\, 77379\, United States
CATEGORIES:Pavilion Reservations
END:VEVENT
BEGIN:VEVENT
DTSTART;TZID=America/Chicago:20260725T090000
DTEND;TZID=America/Chicago:20260725T110000
DTSTAMP:20260423T190207
CREATED:20260223T155934Z
LAST-MODIFIED:20260223T155934Z
UID:2445-1784970000-1784977200@gleannlochfarmsca.org
SUMMARY:Klein Angels
DESCRIPTION:
URL:https://gleannlochfarmsca.org/event/klein-angels-4/
LOCATION:Gleannloch Farms Athletic Park\, 19828 Gleannbury Pointe Dr.\, Spring\, 77379\, United States
CATEGORIES:Pavilion Reservations
END:VEVENT
END:VCALENDAR