BEGIN:VCALENDAR
VERSION:2.0
PRODID:-//Gleannloch Farms - ECPv6.15.11//NONSGML v1.0//EN
CALSCALE:GREGORIAN
METHOD:PUBLISH
X-WR-CALNAME:Gleannloch Farms
X-ORIGINAL-URL:https://gleannlochfarmsca.org
X-WR-CALDESC:Events for Gleannloch Farms
REFRESH-INTERVAL;VALUE=DURATION:PT1H
X-Robots-Tag:noindex
X-PUBLISHED-TTL:PT1H
BEGIN:VTIMEZONE
TZID:America/Chicago
BEGIN:DAYLIGHT
TZOFFSETFROM:-0600
TZOFFSETTO:-0500
TZNAME:CDT
DTSTART:20250309T080000
END:DAYLIGHT
BEGIN:STANDARD
TZOFFSETFROM:-0500
TZOFFSETTO:-0600
TZNAME:CST
DTSTART:20251102T070000
END:STANDARD
BEGIN:DAYLIGHT
TZOFFSETFROM:-0600
TZOFFSETTO:-0500
TZNAME:CDT
DTSTART:20260308T080000
END:DAYLIGHT
BEGIN:STANDARD
TZOFFSETFROM:-0500
TZOFFSETTO:-0600
TZNAME:CST
DTSTART:20261101T070000
END:STANDARD
BEGIN:DAYLIGHT
TZOFFSETFROM:-0600
TZOFFSETTO:-0500
TZNAME:CDT
DTSTART:20270314T080000
END:DAYLIGHT
BEGIN:STANDARD
TZOFFSETFROM:-0500
TZOFFSETTO:-0600
TZNAME:CST
DTSTART:20271107T070000
END:STANDARD
END:VTIMEZONE
BEGIN:VEVENT
DTSTART;TZID=America/Chicago:20260702T163000
DTEND;TZID=America/Chicago:20260702T203000
DTSTAMP:20260423T125346
CREATED:20250903T195749Z
LAST-MODIFIED:20250903T195749Z
UID:1922-1783009800-1783024200@gleannlochfarmsca.org
SUMMARY:Tennis: Giammalva Thursday Lessons\, Courts 5-6
DESCRIPTION:
URL:https://gleannlochfarmsca.org/event/tennis-giammalva-thursday-lessons-courts-5-6-44/
LOCATION:Gleannloch Farms Rec Center\, 9420 Gleannloch Forest\, Spring\, TX\, 77379\, United States
CATEGORIES:Tennis Reservations
END:VEVENT
BEGIN:VEVENT
DTSTART;TZID=America/Chicago:20260707T163000
DTEND;TZID=America/Chicago:20260707T203000
DTSTAMP:20260423T125346
CREATED:20250903T195419Z
LAST-MODIFIED:20250903T195419Z
UID:1852-1783441800-1783456200@gleannlochfarmsca.org
SUMMARY:Tennis: Giammalva Tuesday Lessons\, Courts 1-2
DESCRIPTION:
URL:https://gleannlochfarmsca.org/event/tennis-giammalva-tuesday-lessons-courts-1-2-45/
LOCATION:Gleannloch Farms Rec Center\, 9420 Gleannloch Forest\, Spring\, TX\, 77379\, United States
CATEGORIES:Tennis Reservations
END:VEVENT
BEGIN:VEVENT
DTSTART;TZID=America/Chicago:20260709T163000
DTEND;TZID=America/Chicago:20260709T203000
DTSTAMP:20260423T125346
CREATED:20250903T195803Z
LAST-MODIFIED:20250903T195803Z
UID:1923-1783614600-1783629000@gleannlochfarmsca.org
SUMMARY:Tennis: Giammalva Thursday Lessons\, Courts 5-6
DESCRIPTION:
URL:https://gleannlochfarmsca.org/event/tennis-giammalva-thursday-lessons-courts-5-6-45/
LOCATION:Gleannloch Farms Rec Center\, 9420 Gleannloch Forest\, Spring\, TX\, 77379\, United States
CATEGORIES:Tennis Reservations
END:VEVENT
BEGIN:VEVENT
DTSTART;TZID=America/Chicago:20260714T163000
DTEND;TZID=America/Chicago:20260714T203000
DTSTAMP:20260423T125346
CREATED:20250903T195433Z
LAST-MODIFIED:20250903T195433Z
UID:1853-1784046600-1784061000@gleannlochfarmsca.org
SUMMARY:Tennis: Giammalva Tuesday Lessons\, Courts 1-2
DESCRIPTION:
URL:https://gleannlochfarmsca.org/event/tennis-giammalva-tuesday-lessons-courts-1-2-46/
LOCATION:Gleannloch Farms Rec Center\, 9420 Gleannloch Forest\, Spring\, TX\, 77379\, United States
CATEGORIES:Tennis Reservations
END:VEVENT
BEGIN:VEVENT
DTSTART;TZID=America/Chicago:20260716T163000
DTEND;TZID=America/Chicago:20260716T203000
DTSTAMP:20260423T125346
CREATED:20250903T195803Z
LAST-MODIFIED:20250903T195803Z
UID:1924-1784219400-1784233800@gleannlochfarmsca.org
SUMMARY:Tennis: Giammalva Thursday Lessons\, Courts 5-6
DESCRIPTION:
URL:https://gleannlochfarmsca.org/event/tennis-giammalva-thursday-lessons-courts-5-6-46/
LOCATION:Gleannloch Farms Rec Center\, 9420 Gleannloch Forest\, Spring\, TX\, 77379\, United States
CATEGORIES:Tennis Reservations
END:VEVENT
BEGIN:VEVENT
DTSTART;TZID=America/Chicago:20260721T163000
DTEND;TZID=America/Chicago:20260721T203000
DTSTAMP:20260423T125346
CREATED:20250903T195433Z
LAST-MODIFIED:20250903T195433Z
UID:1854-1784651400-1784665800@gleannlochfarmsca.org
SUMMARY:Tennis: Giammalva Tuesday Lessons\, Courts 1-2
DESCRIPTION:
URL:https://gleannlochfarmsca.org/event/tennis-giammalva-tuesday-lessons-courts-1-2-47/
LOCATION:Gleannloch Farms Rec Center\, 9420 Gleannloch Forest\, Spring\, TX\, 77379\, United States
CATEGORIES:Tennis Reservations
END:VEVENT
BEGIN:VEVENT
DTSTART;TZID=America/Chicago:20260723T163000
DTEND;TZID=America/Chicago:20260723T203000
DTSTAMP:20260423T125346
CREATED:20250903T195804Z
LAST-MODIFIED:20250903T195804Z
UID:1925-1784824200-1784838600@gleannlochfarmsca.org
SUMMARY:Tennis: Giammalva Thursday Lessons\, Courts 5-6
DESCRIPTION:
URL:https://gleannlochfarmsca.org/event/tennis-giammalva-thursday-lessons-courts-5-6-47/
LOCATION:Gleannloch Farms Rec Center\, 9420 Gleannloch Forest\, Spring\, TX\, 77379\, United States
CATEGORIES:Tennis Reservations
END:VEVENT
BEGIN:VEVENT
DTSTART;TZID=America/Chicago:20260728T163000
DTEND;TZID=America/Chicago:20260728T203000
DTSTAMP:20260423T125346
CREATED:20250903T195434Z
LAST-MODIFIED:20250903T195434Z
UID:1855-1785256200-1785270600@gleannlochfarmsca.org
SUMMARY:Tennis: Giammalva Tuesday Lessons\, Courts 1-2
DESCRIPTION:
URL:https://gleannlochfarmsca.org/event/tennis-giammalva-tuesday-lessons-courts-1-2-48/
LOCATION:Gleannloch Farms Rec Center\, 9420 Gleannloch Forest\, Spring\, TX\, 77379\, United States
CATEGORIES:Tennis Reservations
END:VEVENT
BEGIN:VEVENT
DTSTART;TZID=America/Chicago:20260730T163000
DTEND;TZID=America/Chicago:20260730T203000
DTSTAMP:20260423T125346
CREATED:20250903T195804Z
LAST-MODIFIED:20250903T195804Z
UID:1926-1785429000-1785443400@gleannlochfarmsca.org
SUMMARY:Tennis: Giammalva Thursday Lessons\, Courts 5-6
DESCRIPTION:
URL:https://gleannlochfarmsca.org/event/tennis-giammalva-thursday-lessons-courts-5-6-48/
LOCATION:Gleannloch Farms Rec Center\, 9420 Gleannloch Forest\, Spring\, TX\, 77379\, United States
CATEGORIES:Tennis Reservations
END:VEVENT
END:VCALENDAR